
BEGIN:VCALENDAR
VERSION:2.0
METHOD:PUBLISH
PRODID:-//Accessible Web Design//My Calendar//http://www.joedolson.com//v3.3.25//EN';
BEGIN:VEVENT
UID:2261-39
LOCATION:
SUMMARY:Poor Man’s Dinner and Music
DTSTAMP:20251023T173000
ORGANIZER;CN=ISIadmin:MAILTO:info@imagingspecialists.net
DTSTART:20251023T173000
DTEND:20251023T183000
CATEGORIES:General
URL;VALUE=URI:
DESCRIPTION;ENCODING=QUOTED-PRINTABLE:Thursday, September 23, 2025Pinto beans, corn bread and the fixingsHolden Bare will perform at 6:00 pmEveryone invited!Dinner will begin at 5:30 pm&nbsp; 
END:VEVENT
END:VCALENDAR