
BEGIN:VCALENDAR
VERSION:2.0
METHOD:PUBLISH
PRODID:-//Accessible Web Design//My Calendar//http://www.joedolson.com//v3.3.25//EN';
BEGIN:VEVENT
UID:2259-37
LOCATION:
SUMMARY:Special Music - HIGH STRUNG, with Janaya Collins
DTSTAMP:20250504T110000
ORGANIZER;CN=ISIadmin:MAILTO:info@imagingspecialists.net
DTSTART:20250504T110000
DTEND:20250504T120000
CATEGORIES:General
URL;VALUE=URI:
DESCRIPTION;ENCODING=QUOTED-PRINTABLE:Special Music at Shiloh UMC on Sunday, May 4, at 11:00. The bluegrass gospel group, HIGH STRUNG, with Janaya Collins will perform during the worship service. A light lunch will follow the service. All are welcome! 
END:VEVENT
END:VCALENDAR