
BEGIN:VCALENDAR
VERSION:2.0
METHOD:PUBLISH
PRODID:-//Accessible Web Design//My Calendar//http://www.joedolson.com//v3.3.25//EN';
BEGIN:VEVENT
UID:2238-19
LOCATION:
SUMMARY:Senior Day
DTSTAMP:20240322T000000
ORGANIZER;CN=ISIadmin:MAILTO:info@imagingspecialists.net
DTSTART:20240322T000000
DTEND:20240424T000000
CATEGORIES:General
URL;VALUE=URI:
DESCRIPTION;ENCODING=QUOTED-PRINTABLE:Senior Day on Tuesday, April 23, at 11:00 am in the fellowship hall. Sandra Busic will present our Program. Sandra is a certified health coach with extensive knowledge of health issues. Lunch will be provided. Everyone is invited to join us! 
X-FUNAMBOL-ALLDAY: 1
X-MICROSOFT-CDO-ALLDAYEVENT: TRUE

END:VEVENT
END:VCALENDAR