
BEGIN:VCALENDAR
VERSION:2.0
METHOD:PUBLISH
PRODID:-//Accessible Web Design//My Calendar//http://www.joedolson.com//v3.3.25//EN';
BEGIN:VEVENT
UID:2235-16
LOCATION:
SUMMARY:Dedication of Shiloh UMC Fellowship Hall
DTSTAMP:20240310T000000
ORGANIZER;CN=ISIadmin:MAILTO:info@imagingspecialists.net
DTSTART:20240310T000000
DTEND:20240311T000000
CATEGORIES:General
URL;VALUE=URI:
DESCRIPTION;ENCODING=QUOTED-PRINTABLE:197 Shiloh Church RoadSparta, NCService at 11:15 with covered dish lunch to follow in fellowship hall. Meat will be provided.We invite everyone to come and celebrate the beautiful facility God has provided for our church. 
X-FUNAMBOL-ALLDAY: 1
X-MICROSOFT-CDO-ALLDAYEVENT: TRUE

END:VEVENT
END:VCALENDAR