
BEGIN:VCALENDAR
VERSION:2.0
METHOD:PUBLISH
PRODID:-//Accessible Web Design//My Calendar//http://www.joedolson.com//v3.3.25//EN';
BEGIN:VEVENT
UID:2236-17
LOCATION:
SUMMARY:2024 Easter Egg Hunt
DTSTAMP:20240323T100000
ORGANIZER;CN=ISIadmin:MAILTO:info@imagingspecialists.net
DTSTART:20240323T100000
DTEND:20240323T120000
CATEGORIES:General
URL;VALUE=URI:
DESCRIPTION;ENCODING=QUOTED-PRINTABLE:Easter Egg Hunt at Shiloh UMC on Saturday, March 23, 2024 at 10:00 am. The hunt will be indoors if the weather is not good. Everyone is welcome to join us in the Shiloh UMC Fellowship Hall. 
END:VEVENT
END:VCALENDAR