
BEGIN:VCALENDAR
VERSION:2.0
METHOD:PUBLISH
PRODID:-//Accessible Web Design//My Calendar//http://www.joedolson.com//v3.3.25//EN';
BEGIN:VEVENT
UID:2234-15
LOCATION:
SUMMARY:Shiloh's Soup and Sandwich Fellowship Meal
DTSTAMP:20231217T080000
ORGANIZER;CN=ISIadmin:MAILTO:info@imagingspecialists.net
DTSTART:20231217T080000
DTEND:20231217T090000
CATEGORIES:General
URL;VALUE=URI:
DESCRIPTION;ENCODING=QUOTED-PRINTABLE:After church service on Sunday, December 17, 2023Soup and Sandwiches provided by Shiloh United Women of FaithChurch service at 11:15 with fellowship meal to followEveryone Welcome! 
END:VEVENT
END:VCALENDAR