
BEGIN:VCALENDAR
VERSION:2.0
METHOD:PUBLISH
PRODID:-//Accessible Web Design//My Calendar//http://www.joedolson.com//v3.3.25//EN';
BEGIN:VEVENT
UID:2232-13
LOCATION:
SUMMARY:Senior Day
DTSTAMP:20230822T000000
ORGANIZER;CN=ISIadmin:MAILTO:info@imagingspecialists.net
DTSTART:20230822T000000
DTEND:20230822T010000
CATEGORIES:General
URL;VALUE=URI:
DESCRIPTION;ENCODING=QUOTED-PRINTABLE: 
END:VEVENT
END:VCALENDAR